BEGIN:VCALENDAR
VERSION:2.0
PRODID:-//UNAVIA - ECPv5.0.2.1//NONSGML v1.0//EN
CALSCALE:GREGORIAN
METHOD:PUBLISH
X-WR-CALNAME:UNAVIA
X-ORIGINAL-URL:https://www.unavia.it/en/
X-WR-CALDESC:Events for UNAVIA
BEGIN:VTIMEZONE
TZID:Europe/Rome
BEGIN:DAYLIGHT
TZOFFSETFROM:+0100
TZOFFSETTO:+0200
TZNAME:CEST
DTSTART:20230326T010000
END:DAYLIGHT
BEGIN:STANDARD
TZOFFSETFROM:+0200
TZOFFSETTO:+0100
TZNAME:CET
DTSTART:20231029T010000
END:STANDARD
END:VTIMEZONE
BEGIN:VEVENT
DTSTART;TZID=Europe/Rome:20230921T080000
DTEND;TZID=Europe/Rome:20230922T170000
DTSTAMP:20260421T092042
CREATED:20230906T110420Z
LAST-MODIFIED:20230906T123645Z
UID:12816-1695283200-1695402000@www.unavia.it
SUMMARY:AIPnD - CONVEGNO DRONI 2023
DESCRIPTION:21-22 settembre 2023 \nPatrocinio di UNAVIA al 1° CONVEGNO DRONI E CONTROLLI NON DISTRUTTIVI: APPLICAZIONI E PROSPETTIVE\n21/22 Settembre 2023\nPolitecnico di Bari – Dipartimento di Ingegneria Elettrica e dell’Informazione \nLink pagina AIPND \n
URL:https://www.unavia.it/en/evento/aipnd-convegno-droni-2023/
END:VEVENT
END:VCALENDAR